BEGIN:VCALENDAR
VERSION:2.0
PRODID:SchoolNow
CALSCALE:GREGORIAN
BEGIN:VEVENT
UID:52d037f4-24d8-11ee-aefd-0ad72e39358f
DTSTAMP:20230717T193001Z
SUMMARY:Last Day to Drop Full-Term Classes Without a "W"
URL;VALUE=URI:https://www.frc.edu/admissions/calendar/4500099/last-day-to-d
 rop-full-term-classes-without-a-w-clone-clone-clone
DTSTART;VALUE=DATE:20240204
DTEND;VALUE=DATE:20240205
END:VEVENT
END:VCALENDAR
