BEGIN:VCALENDAR
VERSION:2.0
PRODID:SchoolNow
CALSCALE:GREGORIAN
BEGIN:VEVENT
UID:397a2c60-24d8-11ee-9e9d-0acf471acd0d
DTSTAMP:20230717T192919Z
SUMMARY:Graduation petitions due for Spring 2024 graduates
URL;VALUE=URI:https://www.frc.edu/admissions/calendar/4500098/graduation-pe
 titions-due-for-spring-2024-graduates
DTSTART:20240202T202800Z
DTEND:20240202T212800Z
END:VEVENT
END:VCALENDAR
