BEGIN:VCALENDAR
VERSION:2.0
PRODID:SchoolNow
CALSCALE:GREGORIAN
BEGIN:VEVENT
UID:ed1aae80-24d7-11ee-82bc-0a58a9feac02
DTSTAMP:20230717T192710Z
SUMMARY:Last Day to Drop First 9-Week Classes Without a "W"
URL;VALUE=URI:https://www.frc.edu/admissions/calendar/4500095/last-day-to-d
 rop-first-9-week-classes-without-a-w-clone-clone
DTSTART;VALUE=DATE:20240131
DTEND;VALUE=DATE:20240201
END:VEVENT
END:VCALENDAR
