BEGIN:VCALENDAR
VERSION:2.0
PRODID:SchoolNow
CALSCALE:GREGORIAN
BEGIN:VEVENT
UID:e272af6e-24d7-11ee-855c-0a1f18b7a9d9
DTSTAMP:20230717T192653Z
SUMMARY:Last Day to Enroll in First 9-Week Classes and Drop First 9-Week Cl
 asses with 100% Refund
URL;VALUE=URI:https://www.frc.edu/admissions/calendar/4500094/last-day-to-e
 nroll-in-first-9-week-classes-with-100-refund-clone-clone
DTSTART;VALUE=DATE:20240126
DTEND;VALUE=DATE:20240127
END:VEVENT
END:VCALENDAR
