BEGIN:VCALENDAR
VERSION:2.0
PRODID:SchoolNow
CALSCALE:GREGORIAN
BEGIN:VEVENT
UID:ccdae89c-24d7-11ee-9bf3-0a58a9feac02
DTSTAMP:20230717T192616Z
SUMMARY:Second-half-semester classes begin
URL;VALUE=URI:https://www.frc.edu/admissions/calendar/4500093/second-half-s
 emester-classes-begin-clone-clone
DTSTART;VALUE=DATE:20240325
DTEND;VALUE=DATE:20240326
END:VEVENT
END:VCALENDAR
