BEGIN:VCALENDAR
VERSION:2.0
PRODID:SchoolNow
CALSCALE:GREGORIAN
BEGIN:VEVENT
UID:5e14383c-24d7-11ee-93e7-0a58a9feac02
DTSTAMP:20230717T192311Z
SUMMARY:Grades due by 4:00 p.m.
URL;VALUE=URI:https://www.frc.edu/admissions/calendar/4500086/all-grades-du
 e-by-4-00-p-m-clone
DTSTART;VALUE=DATE:20240528
DTEND;VALUE=DATE:20240529
END:VEVENT
END:VCALENDAR
