BEGIN:VCALENDAR
VERSION:2.0
PRODID:SchoolNow
CALSCALE:GREGORIAN
BEGIN:VEVENT
UID:f75fa658-24d6-11ee-855a-0a58a9feac02
DTSTAMP:20230717T192018Z
SUMMARY:Final Examinations (Friday is a make-up day)
URL;VALUE=URI:https://www.frc.edu/admissions/calendar/4500080/final-examina
 tions-friday-is-a-make-up-day
DTSTART;VALUE=DATE:20231211
DTEND;VALUE=DATE:20231216
END:VEVENT
END:VCALENDAR
