BEGIN:VCALENDAR
VERSION:2.0
PRODID:SchoolNow
CALSCALE:GREGORIAN
BEGIN:VEVENT
UID:0ee39b96-24d6-11ee-a294-0a58a9feac02
DTSTAMP:20230717T191348Z
SUMMARY:Spring 2024 registration for non-matriculated new and continuing st
 udents begins
URL;VALUE=URI:https://www.frc.edu/admissions/calendar/4500067/spring-2023-r
 egistration-for-non-matriculated-new-and-continuing-students-begins-clone
DTSTART;VALUE=DATE:20231113
DTEND;VALUE=DATE:20231114
END:VEVENT
END:VCALENDAR
