BEGIN:VCALENDAR
VERSION:2.0
PRODID:SchoolNow
CALSCALE:GREGORIAN
BEGIN:VEVENT
UID:ed30c4ba-24d5-11ee-9728-0295a5caf447
DTSTAMP:20230717T191252Z
SUMMARY:Spring 2024 registration for fully matriculated\, new and continuin
 g students begins
URL;VALUE=URI:https://www.frc.edu/admissions/calendar/4500065/spring-2023-r
 egistration-for-fully-matriculated-new-and-continuing-students-begins-clon
 e-clone
DTSTART;VALUE=DATE:20231029
DTEND;VALUE=DATE:20231030
END:VEVENT
END:VCALENDAR
