BEGIN:VCALENDAR
VERSION:2.0
PRODID:SchoolNow
CALSCALE:GREGORIAN
BEGIN:VEVENT
UID:cc76b6ee-24d5-11ee-a5e9-0ad72e39358f
DTSTAMP:20230717T191157Z
SUMMARY:Last day to enroll in and/or drop second-half-semester classes 100%
  refund
URL;VALUE=URI:https://www.frc.edu/admissions/calendar/4500062/last-day-to-e
 nroll-in-and-or-drop-second-half-semester-classes-100-refund-clone-clone
DTSTART;VALUE=DATE:20231027
DTEND;VALUE=DATE:20231028
END:VEVENT
END:VCALENDAR
