BEGIN:VCALENDAR
VERSION:2.0
PRODID:SchoolNow
CALSCALE:GREGORIAN
BEGIN:VEVENT
UID:740faad8-24d5-11ee-bcaf-0a58a9feac02
DTSTAMP:20230717T190928Z
SUMMARY:Second-half-semester classes begin
URL;VALUE=URI:https://www.frc.edu/admissions/calendar/4500052/second-half-s
 emester-classes-begin-clone
DTSTART;VALUE=DATE:20231023
DTEND;VALUE=DATE:20231024
END:VEVENT
END:VCALENDAR
