BEGIN:VCALENDAR
VERSION:2.0
PRODID:SchoolNow
CALSCALE:GREGORIAN
BEGIN:VEVENT
UID:44ccdaa2-24d5-11ee-84ca-0a58a9feac02
DTSTAMP:20230717T190809Z
SUMMARY:Last Day to Drop First 9-Week Classes With a "W"
URL;VALUE=URI:https://www.frc.edu/admissions/calendar/4500047/last-day-to-d
 rop-first-9-week-classes-without-a-w-clone
DTSTART;VALUE=DATE:20230922
DTEND;VALUE=DATE:20230923
END:VEVENT
END:VCALENDAR
