BEGIN:VCALENDAR
VERSION:2.0
PRODID:SchoolNow
CALSCALE:GREGORIAN
BEGIN:VEVENT
UID:13ca96f6-24d5-11ee-b66b-0a58a9feac02
DTSTAMP:20230717T190647Z
SUMMARY:Last day to drop full-term classes with a "W”
URL;VALUE=URI:https://www.frc.edu/admissions/calendar/4500043/last-day-to-d
 rop-full-term-classes-with-a-w-clone
DTSTART;VALUE=DATE:20231117
DTEND;VALUE=DATE:20231118
END:VEVENT
END:VCALENDAR
