BEGIN:VCALENDAR
VERSION:2.0
PRODID:SchoolNow
CALSCALE:GREGORIAN
BEGIN:VEVENT
UID:ecb12170-24d4-11ee-9bbe-0e938aba3f39
DTSTAMP:20230717T190541Z
SUMMARY:Graduation petition due for Fall 2023 graduates
URL;VALUE=URI:https://www.frc.edu/admissions/calendar/4500040/graduation-pe
 tition-due-for-fall-2023-graduates
DTSTART;VALUE=DATE:20230901
DTEND;VALUE=DATE:20230902
END:VEVENT
END:VCALENDAR
