BEGIN:VCALENDAR
VERSION:2.0
PRODID:SchoolNow
CALSCALE:GREGORIAN
BEGIN:VEVENT
UID:8c4c573c-24d4-11ee-bec2-0a58a9feac02
DTSTAMP:20230717T190300Z
SUMMARY:Last Day to Drop First 9-Week Classes Without a "W"
URL;VALUE=URI:https://www.frc.edu/admissions/calendar/4500034/last-day-to-d
 rop-first-9-week-classes-without-a-w-clone
DTSTART;VALUE=DATE:20230830
DTEND;VALUE=DATE:20230831
END:VEVENT
END:VCALENDAR
