BEGIN:VCALENDAR
VERSION:2.0
PRODID:SchoolNow
CALSCALE:GREGORIAN
BEGIN:VEVENT
UID:b4049e66-24d3-11ee-bae1-0a58a9feac02
DTSTAMP:20230717T185657Z
SUMMARY:All grades due by 4:00 p.m.
URL;VALUE=URI:https://www.frc.edu/admissions/calendar/4500020/all-grades-du
 e-by-4-00-p-m
DTSTART;VALUE=DATE:20230821
DTEND;VALUE=DATE:20230822
END:VEVENT
END:VCALENDAR
