BEGIN:VCALENDAR
VERSION:2.0
PRODID:SchoolNow
CALSCALE:GREGORIAN
BEGIN:VEVENT
UID:e5167b24-24d2-11ee-be26-0a58a9feac02
DTSTAMP:20230717T185110Z
SUMMARY:Fall 2023 semester ends/second-half-semester ends/Finals make-up da
 y
URL;VALUE=URI:https://www.frc.edu/admissions/calendar/4500017/fall-2022-sem
 ester-ends-second-half-semester-ends-finals-make-up-day-clone-clone
DTSTART;VALUE=DATE:20231215
DTEND;VALUE=DATE:20231216
END:VEVENT
END:VCALENDAR
