BEGIN:VCALENDAR
VERSION:2.0
PRODID:SchoolNow
CALSCALE:GREGORIAN
BEGIN:VEVENT
UID:4a199c50-24d2-11ee-b6b1-0a58a9feac02
DTSTAMP:20230717T184649Z
SUMMARY:Last Day to Drop Full-Term Classes Without a "W"
URL;VALUE=URI:https://www.frc.edu/admissions/calendar/4499972/last-day-to-d
 rop-full-term-classes-without-a-w-clone-clone
DTSTART;VALUE=DATE:20230904
DTEND;VALUE=DATE:20230905
END:VEVENT
END:VCALENDAR
