BEGIN:VCALENDAR
VERSION:2.0
PRODID:SchoolNow
CALSCALE:GREGORIAN
BEGIN:VEVENT
UID:4394e08c-cfec-11ed-96c9-028cdfb33a0d
DTSTAMP:20230331T174900Z
SUMMARY:Spring 2023 Graduation Meeting
LOCATION:Gallery RM 320
URL;VALUE=URI:https://www.frc.edu/admissions/calendar/3955247/graduation-me
 eting
DTSTART:20230502T190000Z
DTEND:20230502T200000Z
END:VEVENT
END:VCALENDAR
