BEGIN:VCALENDAR
VERSION:2.0
PRODID:SchoolNow
CALSCALE:GREGORIAN
BEGIN:VEVENT
UID:800ec9d4-8c6b-11ed-9ee0-0e87a58c70cb
DTSTAMP:20230104T200805Z
SUMMARY:First-half-semester classes end
URL;VALUE=URI:https://www.frc.edu/admissions/calendar/3655521/first-half-se
 mester-classes-end-clone
DTSTART;VALUE=DATE:20230324
DTEND;VALUE=DATE:20230325
END:VEVENT
END:VCALENDAR
