BEGIN:VCALENDAR
VERSION:2.0
PRODID:SchoolNow
CALSCALE:GREGORIAN
BEGIN:VEVENT
UID:744acc92-8c6b-11ed-b2b8-0e87a58c70cb
DTSTAMP:20230104T200745Z
SUMMARY:Second-half-semester classes begin
URL;VALUE=URI:https://www.frc.edu/admissions/calendar/3655520/second-half-s
 emester-classes-begin-clone
DTSTART;VALUE=DATE:20230327
DTEND;VALUE=DATE:20230328
END:VEVENT
END:VCALENDAR
