BEGIN:VCALENDAR
VERSION:2.0
PRODID:SchoolNow
CALSCALE:GREGORIAN
BEGIN:VEVENT
UID:fea2198c-8c6a-11ed-b79e-0e87a58c70cb
DTSTAMP:20230104T200428Z
SUMMARY:Fall 2023 priority registration for Homeless/VETS/EOPS/DSPS/Foster 
 Youth/CalWorks/CARE
URL;VALUE=URI:https://www.frc.edu/admissions/calendar/3655519/spring-2023-p
 riority-registration-for-homeless-vets-eops-dsps-foster-youth-calworks-car
 e-clone
DTSTART;VALUE=DATE:20230403
DTEND;VALUE=DATE:20230406
END:VEVENT
END:VCALENDAR
