BEGIN:VCALENDAR
VERSION:2.0
PRODID:SchoolNow
CALSCALE:GREGORIAN
BEGIN:VEVENT
UID:e70143ca-8c6a-11ed-825c-0e87a58c70cb
DTSTAMP:20230104T200348Z
SUMMARY:Last day to enroll in and/or drop second-half-semester classes 100%
  refund
URL;VALUE=URI:https://www.frc.edu/admissions/calendar/3655518/last-day-to-e
 nroll-in-and-or-drop-second-half-semester-classes-100-refund-clone
DTSTART;VALUE=DATE:20230331
DTEND;VALUE=DATE:20230401
END:VEVENT
END:VCALENDAR
