BEGIN:VCALENDAR
VERSION:2.0
PRODID:SchoolNow
CALSCALE:GREGORIAN
BEGIN:VEVENT
UID:aeb8ac60-8c6a-11ed-b965-0e87a58c70cb
DTSTAMP:20230104T200214Z
SUMMARY:Fall 2023 priority registration for TRIO
URL;VALUE=URI:https://www.frc.edu/admissions/calendar/3655517/spring-2023-p
 riority-registration-for-trio-clone
DTSTART;VALUE=DATE:20230406
DTEND;VALUE=DATE:20230409
END:VEVENT
END:VCALENDAR
