BEGIN:VCALENDAR
VERSION:2.0
PRODID:SchoolNow
CALSCALE:GREGORIAN
BEGIN:VEVENT
UID:8dd18d64-8c6a-11ed-9610-0e87a58c70cb
DTSTAMP:20230104T200119Z
SUMMARY:Fall 2023 registration for fully matriculated\, new and continuing 
 students begins
URL;VALUE=URI:https://www.frc.edu/admissions/calendar/3655516/spring-2023-r
 egistration-for-fully-matriculated-new-and-continuing-students-begins-clon
 e
DTSTART;VALUE=DATE:20230409
DTEND;VALUE=DATE:20230410
END:VEVENT
END:VCALENDAR
