BEGIN:VCALENDAR
VERSION:2.0
PRODID:SchoolNow
CALSCALE:GREGORIAN
BEGIN:VEVENT
UID:6c6b3148-8c6a-11ed-84f5-0e87a58c70cb
DTSTAMP:20230104T200023Z
SUMMARY:Fall '23 graduates meet with Advisors to review petitions
URL;VALUE=URI:https://www.frc.edu/admissions/calendar/3655515/spring-23-gra
 duates-meet-with-advisors-to-review-petitions-clone
DTSTART;VALUE=DATE:20230409
DTEND;VALUE=DATE:20230410
END:VEVENT
END:VCALENDAR
