BEGIN:VCALENDAR
VERSION:2.0
PRODID:SchoolNow
CALSCALE:GREGORIAN
BEGIN:VEVENT
UID:2d5eff52-8c6a-11ed-9202-0e87a58c70cb
DTSTAMP:20230104T195837Z
SUMMARY:Last day to drop second-half-semester classes without a "W”
URL;VALUE=URI:https://www.frc.edu/admissions/calendar/3655514/last-day-to-d
 rop-second-half-semester-classes-without-a-w-clone
DTSTART;VALUE=DATE:20230404
DTEND;VALUE=DATE:20230405
END:VEVENT
END:VCALENDAR
