BEGIN:VCALENDAR
VERSION:2.0
PRODID:SchoolNow
CALSCALE:GREGORIAN
BEGIN:VEVENT
UID:130764aa-8c6a-11ed-9e58-0e87a58c70cb
DTSTAMP:20230104T195753Z
SUMMARY:CENSUS for second-half-semester classes
URL;VALUE=URI:https://www.frc.edu/admissions/calendar/3655513/census-for-se
 cond-half-semester-classes-clone
DTSTART;VALUE=DATE:20230405
DTEND;VALUE=DATE:20230406
END:VEVENT
END:VCALENDAR
