BEGIN:VCALENDAR
VERSION:2.0
PRODID:SchoolNow
CALSCALE:GREGORIAN
BEGIN:VEVENT
UID:d843329a-8c69-11ed-9519-0e87a58c70cb
DTSTAMP:20230104T195614Z
SUMMARY:Fall 2023 registration for non-matriculated new and continuing stud
 ents begins
URL;VALUE=URI:https://www.frc.edu/admissions/calendar/3655512/spring-2023-r
 egistration-for-non-matriculated-new-and-continuing-students-begins-clone
DTSTART;VALUE=DATE:20230424
DTEND;VALUE=DATE:20230425
END:VEVENT
END:VCALENDAR
