BEGIN:VCALENDAR
VERSION:2.0
PRODID:SchoolNow
CALSCALE:GREGORIAN
BEGIN:VEVENT
UID:6b6129d0-8c68-11ed-af9d-02370cb4a351
DTSTAMP:20230104T194602Z
SUMMARY:Last day to drop full-term classes with a "W”
URL;VALUE=URI:https://www.frc.edu/admissions/calendar/3655510/last-day-to-d
 rop-full-term-classes-with-a-w-clone
DTSTART;VALUE=DATE:20230428
DTEND;VALUE=DATE:20230429
END:VEVENT
END:VCALENDAR
