BEGIN:VCALENDAR
VERSION:2.0
PRODID:SchoolNow
CALSCALE:GREGORIAN
BEGIN:VEVENT
UID:002f0542-8c68-11ed-90b1-02370cb4a351
DTSTAMP:20230104T194302Z
SUMMARY:Last day to drop second-half-semester classes with a “W”
URL;VALUE=URI:https://www.frc.edu/admissions/calendar/3655509/last-day-to-d
 rop-second-half-semester-classes-with-a-w-clone
DTSTART;VALUE=DATE:20230505
DTEND;VALUE=DATE:20230506
END:VEVENT
END:VCALENDAR
