BEGIN:VCALENDAR
VERSION:2.0
PRODID:SchoolNow
CALSCALE:GREGORIAN
BEGIN:VEVENT
UID:14191a1e-8c51-11ed-a067-0e1fe48e9627
DTSTAMP:20230104T165857Z
SUMMARY:Spring 2023 semester ends/second-half-semester ends/Finals make-up 
 day
URL;VALUE=URI:https://www.frc.edu/admissions/calendar/3655290/fall-2022-sem
 ester-ends-second-half-semester-ends-finals-make-up-day-clone
DTSTART;VALUE=DATE:20230526
DTEND;VALUE=DATE:20230527
END:VEVENT
END:VCALENDAR
