BEGIN:VCALENDAR
VERSION:2.0
PRODID:SchoolNow
CALSCALE:GREGORIAN
BEGIN:VEVENT
UID:97fde81e-d46f-11eb-aa2f-0a5094c70053
DTSTAMP:20210623T225408Z
SUMMARY:Feather River College is now a 100 percent smoke- and tobacco-free 
 campus!
URL;VALUE=URI:https://www.frc.edu/administration/calendar/2626327/feather-r
 iver-college-is-now-a-100-percent-smoke-and-tobacco-free-campus
DTSTART:20210623T220000Z
DTEND:20210623T230000Z
END:VEVENT
END:VCALENDAR
