BEGIN:VCALENDAR
VERSION:2.0
PRODID:SchoolNow
CALSCALE:GREGORIAN
BEGIN:VEVENT
UID:c54c9010-9ea8-11eb-9793-0a0eb80742df
DTSTAMP:20210716T022540Z
SUMMARY:President's Report to Board of Trustees: July 15\, 2021
URL;VALUE=URI:https://www.frc.edu/administration/calendar/2578040/president
 s-report-to-board-of-trustees
DTSTART:20210716T010000Z
DTEND:20210813T010000Z
END:VEVENT
END:VCALENDAR
