BEGIN:VCALENDAR
VERSION:2.0
PRODID:SchoolNow
CALSCALE:GREGORIAN
BEGIN:VEVENT
UID:53997eb8-3a86-11f1-9d06-0a58a9feac02
DTSTAMP:20260417T175908Z
SUMMARY:Baseball Regionals
URL;VALUE=URI:https://www.frc.edu/about/calendar/9000973/baseball-regionals
DTSTART:20260502T175200Z
DTEND:20260502T185200Z
END:VEVENT
END:VCALENDAR
