BEGIN:VCALENDAR
VERSION:2.0
PRODID:SchoolNow
CALSCALE:GREGORIAN
BEGIN:VEVENT
UID:e9155558-3a85-11f1-98ef-0a58a9feac02
DTSTAMP:20260417T175410Z
SUMMARY:Baseball Round 1 Regionals
URL;VALUE=URI:https://www.frc.edu/about/calendar/9000971/baseball-round-1
DTSTART:20260501T174500Z
DTEND:20260501T184500Z
END:VEVENT
END:VCALENDAR
