BEGIN:VCALENDAR
VERSION:2.0
PRODID:SchoolNow
CALSCALE:GREGORIAN
BEGIN:VEVENT
UID:3a4d4c1a-39b8-11f1-a93c-0e15ae30a4b3
DTSTAMP:20260416T171804Z
SUMMARY:Beach Volleyball team Regionals
URL;VALUE=URI:https://www.frc.edu/about/calendar/8998230/beach-volleyball-t
 eam-regionals
DTSTART:20260428T070000Z
DTEND:20260428T080000Z
END:VEVENT
END:VCALENDAR
