BEGIN:VCALENDAR
VERSION:2.0
PRODID:SchoolNow
CALSCALE:GREGORIAN
BEGIN:VEVENT
UID:9f747500-0902-11f1-8428-0e8a3ca0f1b9
DTSTAMP:20260305T173326Z
SUMMARY:Student Recognition Awards
URL;VALUE=URI:https://www.frc.edu/about/calendar/8855246/student-recognitio
 n-awards
DTSTART:20260428T190000Z
DTEND:20260428T200000Z
END:VEVENT
END:VCALENDAR
