BEGIN:VCALENDAR
VERSION:2.0
PRODID:SchoolNow
CALSCALE:GREGORIAN
BEGIN:VEVENT
UID:a08c3960-faf1-11f0-bbed-0afff05128fb
DTSTAMP:20260324T205436Z
SUMMARY:Women's Beach VB vs. Shasta College
URL;VALUE=URI:https://www.frc.edu/about/calendar/8840797/womens-beach-vb-vs
 -shasta-college
DTSTART:20260327T180000Z
DTEND:20260327T190000Z
END:VEVENT
END:VCALENDAR
