BEGIN:VCALENDAR
VERSION:2.0
PRODID:SchoolNow
CALSCALE:GREGORIAN
BEGIN:VEVENT
UID:69538976-faf1-11f0-9148-0a58a9feac02
DTSTAMP:20260324T205417Z
SUMMARY:Beach Volleyball take on Lassen at home!
URL;VALUE=URI:https://www.frc.edu/about/calendar/8840796/beach-volleyball-t
 ake-on-lassen-at-home
DTSTART:20260327T220000Z
DTEND:20260327T230000Z
END:VEVENT
END:VCALENDAR
