BEGIN:VCALENDAR
VERSION:2.0
PRODID:SchoolNow
CALSCALE:GREGORIAN
BEGIN:VEVENT
UID:299813d8-faf1-11f0-b150-026cb038e047
DTSTAMP:20260126T195654Z
SUMMARY:Beach Volleyball vs Lassen College
URL;VALUE=URI:https://www.frc.edu/about/calendar/8840795/beach-volleyball-v
 s-lassen-college
DTSTART:20260313T220000Z
DTEND:20260313T230000Z
END:VEVENT
END:VCALENDAR
