BEGIN:VCALENDAR
VERSION:2.0
PRODID:SchoolNow
CALSCALE:GREGORIAN
BEGIN:VEVENT
UID:01e3fa78-faf1-11f0-a21f-0a58a9feac02
DTSTAMP:20260126T195547Z
SUMMARY:Beach Volleyball vs Butte College at home!
URL;VALUE=URI:https://www.frc.edu/about/calendar/8840794/beach-volleyball-v
 s-butte-college-at-home
DTSTART:20260313T170000Z
DTEND:20260313T180000Z
END:VEVENT
END:VCALENDAR
