BEGIN:VCALENDAR
VERSION:2.0
PRODID:SchoolNow
CALSCALE:GREGORIAN
BEGIN:VEVENT
UID:9cad4218-faf0-11f0-8d29-0a58a9feac02
DTSTAMP:20260126T195257Z
SUMMARY:Beach Volleyball vs College of Siskiyous
URL;VALUE=URI:https://www.frc.edu/about/calendar/8840792/beach-volleyball-v
 s-college-of-siskiyous
DTSTART:20260304T230000Z
DTEND:20260305T000000Z
END:VEVENT
END:VCALENDAR
