BEGIN:VCALENDAR
VERSION:2.0
PRODID:SchoolNow
CALSCALE:GREGORIAN
BEGIN:VEVENT
UID:a8104724-faee-11f0-9fec-0afff05128fb
DTSTAMP:20260126T193857Z
SUMMARY:Beach VB vs. Shasta College
URL;VALUE=URI:https://www.frc.edu/about/calendar/8840775/beach-vb-vs-shasta
 -college
DTSTART:20260304T180000Z
DTEND:20260304T190000Z
END:VEVENT
END:VCALENDAR
