BEGIN:VCALENDAR
VERSION:2.0
PRODID:SchoolNow
CALSCALE:GREGORIAN
BEGIN:VEVENT
UID:c103a0c0-faec-11f0-bf25-0afff05128fb
DTSTAMP:20260417T160116Z
SUMMARY:Baseball vs. Lassen College
URL;VALUE=URI:https://www.frc.edu/about/calendar/8840772/baseball-vs-lassen
 -college
DTSTART:20260418T210000Z
DTEND:20260418T220000Z
END:VEVENT
END:VCALENDAR
