BEGIN:VCALENDAR
VERSION:2.0
PRODID:SchoolNow
CALSCALE:GREGORIAN
BEGIN:VEVENT
UID:9b90ed16-faec-11f0-91bf-0e382b5ee827
DTSTAMP:20260331T161852Z
SUMMARY:Baseball vs College of Redwoods at Home! (DH)
URL;VALUE=URI:https://www.frc.edu/about/calendar/8840771/baseball-vs-colleg
 e-of-redwoods-at-home
DTSTART:20260403T180000Z
DTEND:20260403T220000Z
END:VEVENT
END:VCALENDAR
