BEGIN:VCALENDAR
VERSION:2.0
PRODID:SchoolNow
CALSCALE:GREGORIAN
BEGIN:VEVENT
UID:422ede40-faec-11f0-930d-0affdc9a4f11
DTSTAMP:20260324T205349Z
SUMMARY:FRC Baseball vs Butte College
URL;VALUE=URI:https://www.frc.edu/about/calendar/8840769/frc-baseball-vs-bu
 tte-college
DTSTART:20260326T210000Z
DTEND:20260326T220000Z
END:VEVENT
END:VCALENDAR
