BEGIN:VCALENDAR
VERSION:2.0
PRODID:SchoolNow
CALSCALE:GREGORIAN
BEGIN:VEVENT
UID:111eb4c4-faec-11f0-88b5-0a58a9feac02
DTSTAMP:20260324T205244Z
SUMMARY:Baseball vs Consumnes River College
URL;VALUE=URI:https://www.frc.edu/about/calendar/8840768/baseball-vs-consum
 nes-river-college
DTSTART:20260324T213000Z
DTEND:20260324T223000Z
END:VEVENT
END:VCALENDAR
