BEGIN:VCALENDAR
VERSION:2.0
PRODID:SchoolNow
CALSCALE:GREGORIAN
BEGIN:VEVENT
UID:c7d9e202-faeb-11f0-85c3-0a58a9feac02
DTSTAMP:20260126T191822Z
SUMMARY:Baseball vs. Shasta College (Double Header)
URL;VALUE=URI:https://www.frc.edu/about/calendar/8840767/baseball-vs-shasta
 -college-double-header
DTSTART:20260321T190000Z
DTEND:20260321T220000Z
END:VEVENT
END:VCALENDAR
