BEGIN:VCALENDAR
VERSION:2.0
PRODID:SchoolNow
CALSCALE:GREGORIAN
BEGIN:VEVENT
UID:88239e96-faeb-11f0-a712-0a58a9feac02
DTSTAMP:20260126T191635Z
SUMMARY:Baseball vs Shasta College
URL;VALUE=URI:https://www.frc.edu/about/calendar/8840766/baseball-vs-shasta
 -college
DTSTART:20260320T210000Z
DTEND:20260320T220000Z
END:VEVENT
END:VCALENDAR
